BEGIN:VCALENDAR
VERSION:2.0
PRODID: -//CMS 5.0 //NONSGML //DE
BEGIN:VEVENT
SUMMARY:Gottesdienst
DESCRIPTION:<p>Bezirksevangelist Svenson</p>\n
UID:354853@nak-ingolstadt.de
LOCATION:Kirche Ingolstadt, Lindberghstr. 18
CATEGORIES:Gottesdienst,Ingolstadt-Nord,Ingolstadt
X-ORGANIZER:
STATUS:CONFIRMED
CLASS:PUBLIC
DTSTART:20260415T180000Z
DTEND:20260415T180000Z
DTSTAMP:20260421T173615Z
CREATED:20251217T073015Z
LAST-MODIFIED:20260329T125518Z
END:VEVENT
BEGIN:VEVENT
SUMMARY:Gottesdienst
DESCRIPTION:
UID:354854@nak-ingolstadt.de
LOCATION:Kirche Neuburg/Donau, Rohrenfelder Str. 27
CATEGORIES:Gottesdienst,Neuburg/Donau
X-ORGANIZER:
STATUS:CONFIRMED
CLASS:PUBLIC
DTSTART:20260415T180000Z
DTEND:20260415T180000Z
DTSTAMP:20260421T173615Z
CREATED:20251217T075744Z
LAST-MODIFIED:20260329T125438Z
END:VEVENT
BEGIN:VEVENT
SUMMARY:Gottesdienst
DESCRIPTION:<p>Jugend-Fresh-up, Evangelist Hampel</p>\n
UID:354855@nak-ingolstadt.de
LOCATION:Kirche Kelheim, Barbara von Eck-Str. 9
CATEGORIES:Kelheim,Neustadt an der Donau,Gottesdienst
X-ORGANIZER:
STATUS:CONFIRMED
CLASS:PUBLIC
DTSTART:20260415T180000Z
DTEND:20260415T180000Z
DTSTAMP:20260421T173615Z
CREATED:20251217T075811Z
LAST-MODIFIED:20260329T125401Z
END:VEVENT
BEGIN:VEVENT
SUMMARY:Gottesdienst
DESCRIPTION:
UID:354856@nak-ingolstadt.de
LOCATION:Kirche Pfaffenhofen/Ilm, Schießstätte 5
CATEGORIES:Gottesdienst,Pfaffenhofen/Ilm
X-ORGANIZER:
STATUS:CONFIRMED
CLASS:PUBLIC
DTSTART:20260416T180000Z
DTEND:20260416T180000Z
DTSTAMP:20260421T173615Z
CREATED:20251217T075842Z
LAST-MODIFIED:20260329T125621Z
END:VEVENT
BEGIN:VEVENT
SUMMARY:Gottesdienst
DESCRIPTION:<p>Ostern, Übertragung Bezirksapostel</p>\n
UID:354896@nak-ingolstadt.de
LOCATION:Kirche Neuburg/Donau, Rohrenfelder Str. 27
CATEGORIES:Gottesdienst,Neuburg/Donau
X-ORGANIZER:
STATUS:CONFIRMED
CLASS:PUBLIC
DTSTART:20260405T080000Z
DTEND:20260405T080000Z
DTSTAMP:20260421T173615Z
CREATED:20251217T122700Z
LAST-MODIFIED:20260329T124425Z
END:VEVENT
BEGIN:VEVENT
SUMMARY:Gottesdienst
DESCRIPTION:<p>Ostern, Übertragung Bezirksapostel</p>\n
UID:354897@nak-ingolstadt.de
LOCATION:Kirche Pfaffenhofen/Ilm, Schießstätte 5
CATEGORIES:Gottesdienst,Pfaffenhofen/Ilm
X-ORGANIZER:
STATUS:CONFIRMED
CLASS:PUBLIC
DTSTART:20260405T080000Z
DTEND:20260405T080000Z
DTSTAMP:20260421T173615Z
CREATED:20251217T122724Z
LAST-MODIFIED:20260329T124405Z
END:VEVENT
BEGIN:VEVENT
SUMMARY:Gottesdienst
DESCRIPTION:<p>Ostern, Übertragung Bezirksapostel</p>\n
UID:354898@nak-ingolstadt.de
LOCATION:Kirche Kelheim, Barbara von Eck-Str. 9
CATEGORIES:Gottesdienst,Kelheim
X-ORGANIZER:
STATUS:CONFIRMED
CLASS:PUBLIC
DTSTART:20260405T080000Z
DTEND:20260405T080000Z
DTSTAMP:20260421T173615Z
CREATED:20251217T122837Z
LAST-MODIFIED:20260329T124346Z
END:VEVENT
BEGIN:VEVENT
SUMMARY:Gottesdienst
DESCRIPTION:<p>Ostern, Übertragung Bezirksapostel</p>\n
UID:354899@nak-ingolstadt.de
LOCATION:Kirche Neustadt/Do, Gründlweg 5
CATEGORIES:Gottesdienst,Neustadt an der Donau
X-ORGANIZER:
STATUS:CONFIRMED
CLASS:PUBLIC
DTSTART:20260405T080000Z
DTEND:20260405T080000Z
DTSTAMP:20260421T173615Z
CREATED:20251217T122913Z
LAST-MODIFIED:20260329T124316Z
END:VEVENT
BEGIN:VEVENT
SUMMARY:Gottesdienst
DESCRIPTION:<p>Ostern, Übertragung Bezirksapostel</p>\n
UID:354900@nak-ingolstadt.de
LOCATION:Kirche Ingolstadt, Lindberghstr. 18
CATEGORIES:Gottesdienst,Ingolstadt-Nord,Ingolstadt
X-ORGANIZER:
STATUS:CONFIRMED
CLASS:PUBLIC
DTSTART:20260405T080000Z
DTEND:20260405T080000Z
DTSTAMP:20260421T173615Z
CREATED:20251217T122940Z
LAST-MODIFIED:20260329T124247Z
END:VEVENT
BEGIN:VEVENT
SUMMARY:Gottesdienst
DESCRIPTION:<p>diamantene Hochzeit, Evangelist Hampel</p>\n
UID:354905@nak-ingolstadt.de
LOCATION:Kirche Ingolstadt, Lindberghstr. 18
CATEGORIES:Ingolstadt-Nord,Ingolstadt,Gottesdienst,Neustadt an der Donau
X-ORGANIZER:
STATUS:CONFIRMED
CLASS:PUBLIC
DTSTART:20260426T073000Z
DTEND:20260426T073000Z
DTSTAMP:20260421T173615Z
CREATED:20251217T123626Z
LAST-MODIFIED:20260329T130739Z
END:VEVENT
BEGIN:VEVENT
SUMMARY:Gottesdienst
DESCRIPTION:
UID:354907@nak-ingolstadt.de
LOCATION:Kirche Kelheim, Barbara von Eck-Str. 9
CATEGORIES:Gottesdienst,Kelheim
X-ORGANIZER:
STATUS:CONFIRMED
CLASS:PUBLIC
DTSTART:20260426T073000Z
DTEND:20260426T073000Z
DTSTAMP:20260421T173615Z
CREATED:20251217T123710Z
LAST-MODIFIED:20260329T130610Z
END:VEVENT
BEGIN:VEVENT
SUMMARY:Gottesdienst
DESCRIPTION:
UID:354909@nak-ingolstadt.de
LOCATION:Kirche Pfaffenhofen/Ilm, Schießstätte 5
CATEGORIES:Pfaffenhofen/Ilm,Gottesdienst
X-ORGANIZER:
STATUS:CONFIRMED
CLASS:PUBLIC
DTSTART:20260426T073000Z
DTEND:20260426T073000Z
DTSTAMP:20260421T173615Z
CREATED:20251217T123811Z
LAST-MODIFIED:20260329T130537Z
END:VEVENT
BEGIN:VEVENT
SUMMARY:Gottesdienst
DESCRIPTION:<p>Evangelist Hampel</p>\n
UID:354911@nak-ingolstadt.de
LOCATION:Kirche Neuburg/Donau, Rohrenfelder Str. 27
CATEGORIES:Neuburg/Donau,Gottesdienst
X-ORGANIZER:
STATUS:CONFIRMED
CLASS:PUBLIC
DTSTART:20260429T180000Z
DTEND:20260429T180000Z
DTSTAMP:20260421T173615Z
CREATED:20251217T123902Z
LAST-MODIFIED:20260329T131008Z
END:VEVENT
BEGIN:VEVENT
SUMMARY:Gottesdienst
DESCRIPTION:
UID:354912@nak-ingolstadt.de
LOCATION:Kirche Kelheim, Barbara von Eck-Str. 9
CATEGORIES:Gottesdienst,Neustadt an der Donau,Kelheim
X-ORGANIZER:
STATUS:CONFIRMED
CLASS:PUBLIC
DTSTART:20260429T180000Z
DTEND:20260429T180000Z
DTSTAMP:20260421T173615Z
CREATED:20251217T123928Z
LAST-MODIFIED:20260329T130929Z
END:VEVENT
BEGIN:VEVENT
SUMMARY:Gottesdienst
DESCRIPTION:<p>Evangelist Hampel, Bezirksevangelist Svenson</p>\n
UID:354913@nak-ingolstadt.de
LOCATION:Kirche Pfaffenhofen/Ilm, Schießstätte 5
CATEGORIES:Pfaffenhofen/Ilm,Gottesdienst
X-ORGANIZER:
STATUS:CONFIRMED
CLASS:PUBLIC
DTSTART:20260430T180000Z
DTEND:20260430T180000Z
DTSTAMP:20260421T173615Z
CREATED:20251217T123948Z
LAST-MODIFIED:20260329T131057Z
END:VEVENT
BEGIN:VEVENT
SUMMARY:Gottesdienst
DESCRIPTION:<p>Bezirksevangelist Svenson</p>\n
UID:354920@nak-ingolstadt.de
LOCATION:Kirche Kelheim, Barbara von Eck-Str. 9
CATEGORIES:Gottesdienst,Neustadt an der Donau,Kelheim
X-ORGANIZER:
STATUS:CONFIRMED
CLASS:PUBLIC
DTSTART:20260408T180000Z
DTEND:20260408T180000Z
DTSTAMP:20260421T173615Z
CREATED:20251217T124241Z
LAST-MODIFIED:20260329T124623Z
END:VEVENT
BEGIN:VEVENT
SUMMARY:Gottesdienst
DESCRIPTION:
UID:354921@nak-ingolstadt.de
LOCATION:Kirche Neuburg/Donau, Rohrenfelder Str. 27
CATEGORIES:Neuburg/Donau,Gottesdienst
X-ORGANIZER:
STATUS:CONFIRMED
CLASS:PUBLIC
DTSTART:20260408T180000Z
DTEND:20260408T180000Z
DTSTAMP:20260421T173615Z
CREATED:20251217T124259Z
LAST-MODIFIED:20260329T124540Z
END:VEVENT
BEGIN:VEVENT
SUMMARY:Gottesdienst
DESCRIPTION:
UID:354922@nak-ingolstadt.de
LOCATION:Kirche Ingolstadt, Lindberghstr. 18
CATEGORIES:Gottesdienst,Ingolstadt-Nord,Ingolstadt
X-ORGANIZER:
STATUS:CONFIRMED
CLASS:PUBLIC
DTSTART:20260408T180000Z
DTEND:20260408T180000Z
DTSTAMP:20260421T173615Z
CREATED:20251217T124319Z
LAST-MODIFIED:20260329T124514Z
END:VEVENT
BEGIN:VEVENT
SUMMARY:Gottesdienst
DESCRIPTION:
UID:354923@nak-ingolstadt.de
LOCATION:Kirche Pfaffenhofen/Ilm, Schießstätte 5
CATEGORIES:Gottesdienst,Pfaffenhofen/Ilm
X-ORGANIZER:
STATUS:CONFIRMED
CLASS:PUBLIC
DTSTART:20260409T180000Z
DTEND:20260409T180000Z
DTSTAMP:20260421T173615Z
CREATED:20251217T124336Z
LAST-MODIFIED:20260329T124703Z
END:VEVENT
BEGIN:VEVENT
SUMMARY:Gottesdienst
DESCRIPTION:
UID:354924@nak-ingolstadt.de
LOCATION:Kirche Ingolstadt, Lindberghstr. 18
CATEGORIES:Gottesdienst,Ingolstadt,Ingolstadt-Nord
X-ORGANIZER:
STATUS:CONFIRMED
CLASS:PUBLIC
DTSTART:20260419T073000Z
DTEND:20260419T073000Z
DTSTAMP:20260421T173615Z
CREATED:20251217T124354Z
LAST-MODIFIED:20260329T125938Z
END:VEVENT
BEGIN:VEVENT
SUMMARY:Gottesdienst
DESCRIPTION:
UID:354926@nak-ingolstadt.de
LOCATION:Kirche Kelheim, Barbara von Eck-Str. 9
CATEGORIES:Gottesdienst,Kelheim
X-ORGANIZER:
STATUS:CONFIRMED
CLASS:PUBLIC
DTSTART:20260419T073000Z
DTEND:20260419T073000Z
DTSTAMP:20260421T173615Z
CREATED:20251217T124442Z
LAST-MODIFIED:20260329T125914Z
END:VEVENT
BEGIN:VEVENT
SUMMARY:Gottesdienst
DESCRIPTION:
UID:354927@nak-ingolstadt.de
LOCATION:Kirche Neuburg/Donau, Rohrenfelder Str. 27
CATEGORIES:Gottesdienst,Neuburg/Donau
X-ORGANIZER:
STATUS:CONFIRMED
CLASS:PUBLIC
DTSTART:20260419T073000Z
DTEND:20260419T073000Z
DTSTAMP:20260421T173615Z
CREATED:20251217T124501Z
LAST-MODIFIED:20260329T125837Z
END:VEVENT
BEGIN:VEVENT
SUMMARY:Gottesdienst
DESCRIPTION:
UID:354928@nak-ingolstadt.de
LOCATION:Kirche Pfaffenhofen/Ilm, Schießstätte 5
CATEGORIES:Gottesdienst,Pfaffenhofen/Ilm
X-ORGANIZER:
STATUS:CONFIRMED
CLASS:PUBLIC
DTSTART:20260419T073000Z
DTEND:20260419T073000Z
DTSTAMP:20260421T173615Z
CREATED:20251217T124534Z
LAST-MODIFIED:20260329T125812Z
END:VEVENT
BEGIN:VEVENT
SUMMARY:Gottesdienst
DESCRIPTION:<p>Bezirksevangelist Svenson, Taufe</p>\n
UID:357487@nak-ingolstadt.de
LOCATION:Kirche Neuburg/Donau, Rohrenfelder Str. 27
CATEGORIES:Neuburg/Donau,Gottesdienst
X-ORGANIZER:
STATUS:CONFIRMED
CLASS:PUBLIC
DTSTART:20260412T073000Z
DTEND:20260412T073000Z
DTSTAMP:20260421T173615Z
CREATED:20260124T061115Z
LAST-MODIFIED:20260329T125222Z
END:VEVENT
BEGIN:VEVENT
SUMMARY:Gottesdienst
DESCRIPTION:
UID:357488@nak-ingolstadt.de
LOCATION:Kirche Pfaffenhofen/Ilm, Schießstätte 5
CATEGORIES:Pfaffenhofen/Ilm,Gottesdienst
X-ORGANIZER:
STATUS:CONFIRMED
CLASS:PUBLIC
DTSTART:20260412T073000Z
DTEND:20260412T073000Z
DTSTAMP:20260421T173615Z
CREATED:20260124T061159Z
LAST-MODIFIED:20260329T124958Z
END:VEVENT
BEGIN:VEVENT
SUMMARY:Gottesdienst
DESCRIPTION:
UID:357489@nak-ingolstadt.de
LOCATION:Kirche Kelheim, Barbara von Eck-Str. 9
CATEGORIES:Gottesdienst,Kelheim
X-ORGANIZER:
STATUS:CONFIRMED
CLASS:PUBLIC
DTSTART:20260412T073000Z
DTEND:20260412T073000Z
DTSTAMP:20260421T173615Z
CREATED:20260124T061228Z
LAST-MODIFIED:20260329T124928Z
END:VEVENT
BEGIN:VEVENT
SUMMARY:Gottesdienst
DESCRIPTION:<p>Konfirmation</p>\n
UID:357491@nak-ingolstadt.de
LOCATION:Kirche Ingolstadt, Lindberghstr. 18
CATEGORIES:Ingolstadt,Ingolstadt-Nord,Gottesdienst
X-ORGANIZER:
STATUS:CONFIRMED
CLASS:PUBLIC
DTSTART:20260412T073000Z
DTEND:20260412T073000Z
DTSTAMP:20260421T173615Z
CREATED:20260124T061326Z
LAST-MODIFIED:20260329T125646Z
END:VEVENT
BEGIN:VEVENT
SUMMARY:Gottesdienst
DESCRIPTION:
UID:359413@nak-ingolstadt.de
LOCATION:Kirche Neuburg/Donau, Rohrenfelder Str. 27
CATEGORIES:Neuburg/Donau,Gottesdienst
X-ORGANIZER:
STATUS:CONFIRMED
CLASS:PUBLIC
DTSTART:20260426T073000Z
DTEND:20260426T073000Z
DTSTAMP:20260421T173615Z
CREATED:20260220T145224Z
LAST-MODIFIED:20260329T130421Z
END:VEVENT
BEGIN:VEVENT
SUMMARY:Gottesdienst
DESCRIPTION:
UID:359414@nak-ingolstadt.de
LOCATION:Kirche Neuburg/Donau, Rohrenfelder Str. 27
CATEGORIES:Neuburg/Donau,Gottesdienst
X-ORGANIZER:
STATUS:CONFIRMED
CLASS:PUBLIC
DTSTART:20260503T073000Z
DTEND:20260503T073000Z
DTSTAMP:20260421T173615Z
CREATED:20260220T145454Z
LAST-MODIFIED:20260329T131258Z
END:VEVENT
BEGIN:VEVENT
SUMMARY:Gottesdienst
DESCRIPTION:
UID:359415@nak-ingolstadt.de
LOCATION:Kirche Neustadt/Do, Gründlweg 5
CATEGORIES:Neustadt an der Donau,Gottesdienst
X-ORGANIZER:
STATUS:CONFIRMED
CLASS:PUBLIC
DTSTART:20260503T073000Z
DTEND:20260503T073000Z
DTSTAMP:20260421T173615Z
CREATED:20260220T145519Z
LAST-MODIFIED:20260329T131236Z
END:VEVENT
BEGIN:VEVENT
SUMMARY:Gottesdienst
DESCRIPTION:
UID:359416@nak-ingolstadt.de
LOCATION:Kirche Pfaffenhofen/Ilm, Schießstätte 5
CATEGORIES:Pfaffenhofen/Ilm,Gottesdienst
X-ORGANIZER:
STATUS:CONFIRMED
CLASS:PUBLIC
DTSTART:20260503T073000Z
DTEND:20260503T073000Z
DTSTAMP:20260421T173615Z
CREATED:20260220T145547Z
LAST-MODIFIED:20260329T131210Z
END:VEVENT
BEGIN:VEVENT
SUMMARY:Gottesdienst
DESCRIPTION:
UID:359418@nak-ingolstadt.de
LOCATION:Kirche Kelheim, Barbara von Eck-Str. 9
CATEGORIES:Gottesdienst,Kelheim
X-ORGANIZER:
STATUS:CONFIRMED
CLASS:PUBLIC
DTSTART:20260503T073000Z
DTEND:20260503T073000Z
DTSTAMP:20260421T173615Z
CREATED:20260220T145648Z
LAST-MODIFIED:20260329T131150Z
END:VEVENT
BEGIN:VEVENT
SUMMARY:Gottesdienst
DESCRIPTION:
UID:359419@nak-ingolstadt.de
LOCATION:Kirche Ingolstadt, Lindberghstr. 18
CATEGORIES:Ingolstadt-Nord,Ingolstadt,Gottesdienst
X-ORGANIZER:
STATUS:CONFIRMED
CLASS:PUBLIC
DTSTART:20260503T073000Z
DTEND:20260503T073000Z
DTSTAMP:20260421T173615Z
CREATED:20260220T145710Z
LAST-MODIFIED:20260329T131127Z
END:VEVENT
BEGIN:VEVENT
SUMMARY:Gottesdienst
DESCRIPTION:<p>Karfreitag</p>\n
UID:359420@nak-ingolstadt.de
LOCATION:Kirche Ingolstadt, Lindberghstr. 18
CATEGORIES:Gottesdienst,Ingolstadt,Ingolstadt-Nord
X-ORGANIZER:
STATUS:CONFIRMED
CLASS:PUBLIC
DTSTART:20260403T073000Z
DTEND:20260403T073000Z
DTSTAMP:20260421T173615Z
CREATED:20260220T145909Z
LAST-MODIFIED:20260220T145935Z
END:VEVENT
BEGIN:VEVENT
SUMMARY:Gottesdienst
DESCRIPTION:<p>Karfreitag</p>\n
UID:359421@nak-ingolstadt.de
LOCATION:Kirche Kelheim, Barbara von Eck-Str. 9
CATEGORIES:Kelheim,Gottesdienst
X-ORGANIZER:
STATUS:CONFIRMED
CLASS:PUBLIC
DTSTART:20260403T073000Z
DTEND:20260403T073000Z
DTSTAMP:20260421T173615Z
CREATED:20260220T145949Z
LAST-MODIFIED:20260220T150003Z
END:VEVENT
BEGIN:VEVENT
SUMMARY:Gottesdienst
DESCRIPTION:<p>Karfreitag</p>\n
UID:359422@nak-ingolstadt.de
LOCATION:Kirche Pfaffenhofen/Ilm, Schießstätte 5
CATEGORIES:Pfaffenhofen/Ilm,Gottesdienst
X-ORGANIZER:
STATUS:CONFIRMED
CLASS:PUBLIC
DTSTART:20260403T073000Z
DTEND:20260403T073000Z
DTSTAMP:20260421T173615Z
CREATED:20260220T150015Z
LAST-MODIFIED:20260220T150027Z
END:VEVENT
BEGIN:VEVENT
SUMMARY:Gottesdienst
DESCRIPTION:<p>Karfreitag</p>\n
UID:359423@nak-ingolstadt.de
LOCATION:Kirche Neustadt/Do, Gründlweg 5
CATEGORIES:Neustadt an der Donau,Gottesdienst
X-ORGANIZER:
STATUS:CONFIRMED
CLASS:PUBLIC
DTSTART:20260403T073000Z
DTEND:20260403T073000Z
DTSTAMP:20260421T173615Z
CREATED:20260220T150037Z
LAST-MODIFIED:20260220T150051Z
END:VEVENT
BEGIN:VEVENT
SUMMARY:Gottesdienst
DESCRIPTION:<p>Karfreitag</p>\n
UID:359424@nak-ingolstadt.de
LOCATION:Kirche Neuburg/Donau, Rohrenfelder Str. 27
CATEGORIES:Gottesdienst,Neuburg/Donau
X-ORGANIZER:
STATUS:CONFIRMED
CLASS:PUBLIC
DTSTART:20260403T073000Z
DTEND:20260403T073000Z
DTSTAMP:20260421T173615Z
CREATED:20260220T150102Z
LAST-MODIFIED:20260220T150114Z
END:VEVENT
BEGIN:VEVENT
SUMMARY:Gottesdienst
DESCRIPTION:
UID:362567@nak-ingolstadt.de
LOCATION:Kirche Neustadt/Do, Gründlweg 5
CATEGORIES:Gottesdienst,Neustadt an der Donau
X-ORGANIZER:
STATUS:CONFIRMED
CLASS:PUBLIC
DTSTART:20260412T073000Z
DTEND:20260412T073000Z
DTSTAMP:20260421T173615Z
CREATED:20260329T124820Z
LAST-MODIFIED:20260329T124849Z
END:VEVENT
BEGIN:VEVENT
SUMMARY:Gottesdienst
DESCRIPTION:<p>Bezirksevangelist Svenson</p>\n
UID:362568@nak-ingolstadt.de
LOCATION:Kirche Neustadt/Do, Gründlweg 5
CATEGORIES:Neustadt an der Donau,Gottesdienst
X-ORGANIZER:
STATUS:CONFIRMED
CLASS:PUBLIC
DTSTART:20260419T073000Z
DTEND:20260419T073000Z
DTSTAMP:20260421T173615Z
CREATED:20260329T125954Z
LAST-MODIFIED:20260329T130026Z
END:VEVENT
BEGIN:VEVENT
SUMMARY:Gottesdienst
DESCRIPTION:
UID:362569@nak-ingolstadt.de
LOCATION:Kirche Kelheim, Barbara von Eck-Str. 9
CATEGORIES:Kelheim,Gottesdienst,Neustadt an der Donau
X-ORGANIZER:
STATUS:CONFIRMED
CLASS:PUBLIC
DTSTART:20260422T180000Z
DTEND:20260422T180000Z
DTSTAMP:20260421T173615Z
CREATED:20260329T130051Z
LAST-MODIFIED:20260329T130136Z
END:VEVENT
BEGIN:VEVENT
SUMMARY:Gottesdienst
DESCRIPTION:
UID:362570@nak-ingolstadt.de
LOCATION:Kirche Neuburg/Donau, Rohrenfelder Str. 27
CATEGORIES:Gottesdienst,Neuburg/Donau
X-ORGANIZER:
STATUS:CONFIRMED
CLASS:PUBLIC
DTSTART:20260422T180000Z
DTEND:20260422T180000Z
DTSTAMP:20260421T173615Z
CREATED:20260329T130154Z
LAST-MODIFIED:20260329T130211Z
END:VEVENT
BEGIN:VEVENT
SUMMARY:Gottesdienst
DESCRIPTION:
UID:362571@nak-ingolstadt.de
LOCATION:Kirche Ingolstadt, Lindberghstr. 18
CATEGORIES:Ingolstadt-Nord,Ingolstadt,Gottesdienst
X-ORGANIZER:
STATUS:CONFIRMED
CLASS:PUBLIC
DTSTART:20260422T180000Z
DTEND:20260422T180000Z
DTSTAMP:20260421T173615Z
CREATED:20260329T130234Z
LAST-MODIFIED:20260329T130302Z
END:VEVENT
BEGIN:VEVENT
SUMMARY:Gottesdienst
DESCRIPTION:
UID:362572@nak-ingolstadt.de
LOCATION:Kirche Pfaffenhofen/Ilm, Schießstätte 5
CATEGORIES:Pfaffenhofen/Ilm,Gottesdienst
X-ORGANIZER:
STATUS:CONFIRMED
CLASS:PUBLIC
DTSTART:20260423T180000Z
DTEND:20260423T180000Z
DTSTAMP:20260421T173615Z
CREATED:20260329T130317Z
LAST-MODIFIED:20260329T130334Z
END:VEVENT
BEGIN:VEVENT
SUMMARY:Gottesdienst
DESCRIPTION:
UID:362573@nak-ingolstadt.de
LOCATION:Kirche Ingolstadt, Lindberghstr. 18
CATEGORIES:Gottesdienst,Ingolstadt-Nord,Ingolstadt
X-ORGANIZER:
STATUS:CONFIRMED
CLASS:PUBLIC
DTSTART:20260429T180000Z
DTEND:20260429T180000Z
DTSTAMP:20260421T173615Z
CREATED:20260329T130755Z
LAST-MODIFIED:20260329T130811Z
END:VEVENT
BEGIN:VEVENT
SUMMARY:Gottesdienst für Amtsträger des Bezirks
DESCRIPTION:<p>Evangelist Hampel, Bezirksevangelist Svenson</p>\n
UID:362575@nak-ingolstadt.de
LOCATION:Kirche Neustadt/Do, Gründlweg 5
CATEGORIES:Amtsträger,Bezirk (und alle Gemeinden),Gottesdienst
X-ORGANIZER:
STATUS:CONFIRMED
CLASS:PUBLIC
DTSTART:20260426T140000Z
DTEND:20260426T140000Z
DTSTAMP:20260421T173615Z
CREATED:20260329T131326Z
LAST-MODIFIED:20260329T131510Z
END:VEVENT
END:VCALENDAR
